BEGIN:VCALENDAR
VERSION:2.0
PRODID:-//BIGS Potsdam - ECPv6.15.12.2//NONSGML v1.0//EN
CALSCALE:GREGORIAN
METHOD:PUBLISH
X-ORIGINAL-URL:https://www.bigs-potsdam.org/en/
X-WR-CALDESC:Events for BIGS Potsdam
REFRESH-INTERVAL;VALUE=DURATION:PT1H
X-Robots-Tag:noindex
X-PUBLISHED-TTL:PT1H
BEGIN:VTIMEZONE
TZID:Europe/Berlin
BEGIN:DAYLIGHT
TZOFFSETFROM:+0100
TZOFFSETTO:+0200
TZNAME:CEST
DTSTART:20240331T010000
END:DAYLIGHT
BEGIN:STANDARD
TZOFFSETFROM:+0200
TZOFFSETTO:+0100
TZNAME:CET
DTSTART:20241027T010000
END:STANDARD
BEGIN:DAYLIGHT
TZOFFSETFROM:+0100
TZOFFSETTO:+0200
TZNAME:CEST
DTSTART:20250330T010000
END:DAYLIGHT
BEGIN:STANDARD
TZOFFSETFROM:+0200
TZOFFSETTO:+0100
TZNAME:CET
DTSTART:20251026T010000
END:STANDARD
BEGIN:DAYLIGHT
TZOFFSETFROM:+0100
TZOFFSETTO:+0200
TZNAME:CEST
DTSTART:20260329T010000
END:DAYLIGHT
BEGIN:STANDARD
TZOFFSETFROM:+0200
TZOFFSETTO:+0100
TZNAME:CET
DTSTART:20261025T010000
END:STANDARD
END:VTIMEZONE
BEGIN:VEVENT
DTSTART;TZID=Europe/Berlin:20250916T090000
DTEND;TZID=Europe/Berlin:20250916T160000
DTSTAMP:20260423T122409
CREATED:20250811T130314Z
LAST-MODIFIED:20250811T130314Z
UID:9635-1758013200-1758038400@www.bigs-potsdam.org
SUMMARY:FERMI Final Conference
DESCRIPTION:For most of us\, disinformation seems to be largely an online phenomenon encountered on social media platforms and dubious news sites. However\, for law enforcement agencies\, the effects of online disinformation can also be seen in offline crimes\, such as when false information is used to incite physical violence. \nHorizon Europe project FERMI (Fake News Risk Mitigator) examined the nexus between disinformation and crime and developed a set of tools aimed to support law-enforcement agencies in curbing criminal actions resulting from the spread of false messaging by violent extremists. After three years of intense work the project is coming to an end\, and we are pleased to invite you to attend the \nFERMI Final Conference\non September 16th\, 2025\,\n9am – 4pm\nat Humboldt University\,\nUnter den Linden 6\, 10117 Berlin. \nIn three panels\, leading experts from academia\, technical partners and end-users will present not only the main results of the Fermi project but also insights into technology-driven solutions and the challenges facing practitioners. The agenda can be accessed here. \nParticipation is possible both in person and online. Please register until September 12th via the link below.  \n\nRegister here\n\nAbout the project:\nThe Horizon Europe project FERMI developd a framework to detect and monitor the way that disinformation spreads\, both in terms of locations and within different segments of the society\, and supports Police Authorities to put in place relevant security countermeasures. Within the project\, BIGS focused on a methodology to make the costs associated with disinformation and its most visible effects in the form of extremism\, more transparent and predictable.
URL:https://www.bigs-potsdam.org/en/events/fermi-final-conference/
LOCATION:Berlin-Mitte\, Berlin\, 10117\, Deutschland
ATTACH;FMTTYPE=image/png:https://www.bigs-potsdam.org/app/uploads/2025/08/Save-the-date-Beige.png
END:VEVENT
END:VCALENDAR