BEGIN:VCALENDAR
VERSION:2.0
PRODID:-//BIGS Potsdam - ECPv6.15.12.2//NONSGML v1.0//EN
CALSCALE:GREGORIAN
METHOD:PUBLISH
X-WR-CALNAME:BIGS Potsdam
X-ORIGINAL-URL:https://www.bigs-potsdam.org/en/
X-WR-CALDESC:Events for BIGS Potsdam
REFRESH-INTERVAL;VALUE=DURATION:PT1H
X-Robots-Tag:noindex
X-PUBLISHED-TTL:PT1H
BEGIN:VTIMEZONE
TZID:Europe/Berlin
BEGIN:DAYLIGHT
TZOFFSETFROM:+0100
TZOFFSETTO:+0200
TZNAME:CEST
DTSTART:20220327T010000
END:DAYLIGHT
BEGIN:STANDARD
TZOFFSETFROM:+0200
TZOFFSETTO:+0100
TZNAME:CET
DTSTART:20221030T010000
END:STANDARD
BEGIN:DAYLIGHT
TZOFFSETFROM:+0100
TZOFFSETTO:+0200
TZNAME:CEST
DTSTART:20230326T010000
END:DAYLIGHT
BEGIN:STANDARD
TZOFFSETFROM:+0200
TZOFFSETTO:+0100
TZNAME:CET
DTSTART:20231029T010000
END:STANDARD
BEGIN:DAYLIGHT
TZOFFSETFROM:+0100
TZOFFSETTO:+0200
TZNAME:CEST
DTSTART:20240331T010000
END:DAYLIGHT
BEGIN:STANDARD
TZOFFSETFROM:+0200
TZOFFSETTO:+0100
TZNAME:CET
DTSTART:20241027T010000
END:STANDARD
END:VTIMEZONE
BEGIN:VEVENT
DTSTART;TZID=Europe/Berlin:20231013T121500
DTEND;TZID=Europe/Berlin:20231013T140000
DTSTAMP:20260422T140859
CREATED:20231009T113039Z
LAST-MODIFIED:20231009T142737Z
UID:8190-1697199300-1697205600@www.bigs-potsdam.org
SUMMARY:The Internet Identifiers as a Factor of Regional and Global Security
DESCRIPTION:Register Here\n\nThe provision of the “Internet” as a decentralized infrastructure for almost all areas of life in our society is a regulatory issue that has not yet been adequately resolved. This is accompanied by numerous security and privacy problems\, which Internet users have to circumvent largely on their own. Even the numerous attempts at regulation have done little to change this. \nMichael Yakushev of the Institute for the Development of Public Digital Networks (IEDN) has been working on the very fundamental organizational and governance issues of the Internet for many years. In his talk\, he will outline the importance of IP addresses\, especially from a security perspective. You are cordially invited to attend this presentation on October 13\, which will be held in English. The PizzaSeminar will take place at IABG’s office in Berlin-Mitte and via Zoom. \n  \n  \nAbout the speaker: \n\nMichael Yakushev is an expert on international law and global Internet Governance. He was a member of G8 Okinawa Digital Opportunities Task Force (2000-2001)\, the Working Group on Internet Governance under UN Secretary General (2004-2005) and Council of Europe Working Group on Cross-Border Internet Issues. Between 2014 and 2017  he was the Vice President of ICANN on Eastern Europe and Central Asia. Since 2022  he is the Scientific Advisor of IEDN (based in Berlin).
URL:https://www.bigs-potsdam.org/en/events/the-internet-identifiers-as-a-factor-of-regional-and-global-security/
LOCATION:Berlin-Mitte\, Berlin\, 10117\, Deutschland
ATTACH;FMTTYPE=image/png:https://www.bigs-potsdam.org/app/uploads/2023/10/PizzaSeminar_Yakushev.png
END:VEVENT
END:VCALENDAR