BEGIN:VCALENDAR
VERSION:2.0
PRODID:-//BIGS Potsdam - ECPv6.15.12.2//NONSGML v1.0//EN
CALSCALE:GREGORIAN
METHOD:PUBLISH
X-ORIGINAL-URL:https://www.bigs-potsdam.org
X-WR-CALDESC:Veranstaltungen für BIGS Potsdam
REFRESH-INTERVAL;VALUE=DURATION:PT1H
X-Robots-Tag:noindex
X-PUBLISHED-TTL:PT1H
BEGIN:VTIMEZONE
TZID:Europe/Berlin
BEGIN:DAYLIGHT
TZOFFSETFROM:+0100
TZOFFSETTO:+0200
TZNAME:CEST
DTSTART:20190331T010000
END:DAYLIGHT
BEGIN:STANDARD
TZOFFSETFROM:+0200
TZOFFSETTO:+0100
TZNAME:CET
DTSTART:20191027T010000
END:STANDARD
BEGIN:DAYLIGHT
TZOFFSETFROM:+0100
TZOFFSETTO:+0200
TZNAME:CEST
DTSTART:20200329T010000
END:DAYLIGHT
BEGIN:STANDARD
TZOFFSETFROM:+0200
TZOFFSETTO:+0100
TZNAME:CET
DTSTART:20201025T010000
END:STANDARD
BEGIN:DAYLIGHT
TZOFFSETFROM:+0100
TZOFFSETTO:+0200
TZNAME:CEST
DTSTART:20210328T010000
END:DAYLIGHT
BEGIN:STANDARD
TZOFFSETFROM:+0200
TZOFFSETTO:+0100
TZNAME:CET
DTSTART:20211031T010000
END:STANDARD
END:VTIMEZONE
BEGIN:VEVENT
DTSTART;TZID=Europe/Berlin:20200515T120000
DTEND;TZID=Europe/Berlin:20200515T140000
DTSTAMP:20260420T032229
CREATED:20200505T132253Z
LAST-MODIFIED:20200511T125929Z
UID:3373-1589544000-1589551200@www.bigs-potsdam.org
SUMMARY:Risk Management of CyberSecurity
DESCRIPTION:In der modernen Gesellschaft\, in der die Abhängigkeit von IT-Diensten zunimmt\, gewinnt gleichzeitig auch das Risikomanagement von Cybervorfällen an Bedeutung. Cyberversicherungen als ein Instrument eines adäquaten Risikomanagements haben vor allem in der Fachwelt in den letzten Jahren viel Aufmerksamkeit erfahren. Während der Cyberversicherungsmarkt schnell wächst\, steht er auch vor einer Reihe von Herausforderungen. \nAuf der Grundlage von Forschung und praktischer Erfahrung wird Dr. Ulrik Franke in diesem PizzaSeminar das Konzept der Cyberversicherung vorstellen und einige der wichtigsten Herausforderungen ansprechen\, darunter das Kumulrisiko\, die Kundenerwartungen und die Versicherungsdeckung\, der Mangel an Daten und die Frage nach dem  Spielraum für die Zusammenarbeit zwischen den Wettbewerbern bei der Bekämpfung gängiger Cyberbedrohungen. \nDie Veranstaltung findet in englischer Sprache statt. \nFür die Diskussion gilt im Interesse eines möglichst freien Austausches unter den Teilnehmern die Chatham-House-Rule. Über Ihre Teilnahme würde ich mich sehr freuen. Gerne dürfen Sie die Einladung auch an interessierte Kolleginnen und Kollegen weiterleiten. \nBei Interesse melden Sie sich bitte bis Mittwoch\, den 13.05.2020\, per Mail an: info@bigs-potsdam.org. Wir senden Ihnen dann im Anschluss einen Link für die Teilnahme. \nÜber den Sprecher:\nDr. Ulrik Franke ist Senior Research Fellow an den RISE-Forschungsinstituten Schwedens und den angegliederten Fakultät an der Königlich Technischen Hochschule KTH in Stockholm. Außerdem arbeitet Ulrik im Jahr 2020 als Gastforscher im Bereich der Cyberversicherungen bei der Versicherungsgesellschaft Länsförsäkringar\, die von der Schwedischen Stiftung für strategische Forschung finanziert wird. Seine Forschungsinteressen umfassen transparente Algorithmen\, Cyberversicherungen und die Verfügbarkeit von IT-Diensten sowie den Aufbau von (cyber)sicheren Unternehmensarchitekturen.
URL:https://www.bigs-potsdam.org/event/risk-management-of-cybersecurity/
LOCATION:Online
CATEGORIES:PizzaSeminar
ATTACH;FMTTYPE=image/jpeg:https://www.bigs-potsdam.org/app/uploads/2020/05/Pizza-Bild-600x367-mit-Quellenangabe.jpg
END:VEVENT
END:VCALENDAR